Workbook

Sheet 表格
A1: 附件1
A2: 2023年度促进制造业高质量发展-产业联动发展奖励
A3: 序号 | B3: 申请编号 | C3: 单位 | D3: 统一社会信用代码 | E3: 审核结果 | F3: 奖励金额 （万元） | G3: 备注
A4: 合 计 | F4: =SUM(F5:F26) -> 2123
A5: 1 | B5: ns7837792242408300041805 | C5: =VLOOKUP(B5,[1]第二批!$B:$C,2,0) -> 广州黄船海洋工程有限公司 | D5: =VLOOKUP(B5,[1]第二批!$B:$D,3,0) -> 91440115685212910Y | E5: 符合条件 | F5: =VLOOKUP(C5,[1]第二批!$C:$Z,24,0) -> 124
A6: 2 | B6: ns7837792242408300041787 | C6: =VLOOKUP(B6,[1]第二批!$B:$C,2,0) -> 广汽丰田发动机有限公司 | D6: =VLOOKUP(B6,[1]第二批!$B:$D,3,0) -> 91440101717850686P | E6: 符合条件 | F6: =VLOOKUP(C6,[1]第二批!$C:$Z,24,0) -> 200
A7: 3 | B7: ns7837792242408300041746 | C7: =VLOOKUP(B7,[1]第二批!$B:$C,2,0) -> 广汽丰田汽车有限公司 | D7: =VLOOKUP(B7,[1]第二批!$B:$D,3,0) -> 91440101717852200L | E7: 符合条件 | F7: =VLOOKUP(C7,[1]第二批!$C:$Z,24,0) -> 200
A8: 4 | B8: ns7837792242408300041711 | C8: =VLOOKUP(B8,[1]第二批!$B:$C,2,0) -> 广州丰铁汽车部件有限公司 | D8: =VLOOKUP(B8,[1]第二批!$B:$D,3,0) -> 91440101764027350F | E8: 符合条件 | F8: =VLOOKUP(C8,[1]第二批!$C:$Z,24,0) -> 200
A9: 5 | B9: ns7837792242408300041702 | C9: 广州美的华凌冰箱有限公司 | D9: 91440101556658991A | E9: 符合条件 | F9: =VLOOKUP(C9,[1]第二批!$C:$Z,24,0) -> 200
A10: 6 | B10: ns7837792242408300041667 | C10: =VLOOKUP(B10,[1]第二批!$B:$C,2,0) -> 广东芬尼克兹节能设备有限公司 | D10: =VLOOKUP(B10,[1]第二批!$B:$D,3,0) -> 914401157371936603 | E10: 符合条件 | F10: =VLOOKUP(C10,[1]第二批!$C:$Z,24,0) -> 29
A11: 7 | B11: ns7837792242408300041652 | C11: =VLOOKUP(B11,[1]第二批!$B:$C,2,0) -> 广州穗粮实业有限公司 | D11: =VLOOKUP(B11,[1]第二批!$B:$D,3,0) -> 91440101MA5A3EPC7F | E11: 符合条件 | F11: =VLOOKUP(C11,[1]第二批!$C:$Z,24,0) -> 66
A12: 8 | B12: ns7837792242408290041553 | C12: =VLOOKUP(B12,[1]第二批!$B:$C,2,0) -> 广州岭南电缆股份有限公司 | D12: =VLOOKUP(B12,[1]第二批!$B:$D,3,0) -> 91440101618705985B | E12: 符合条件 | F12: =VLOOKUP(C12,[1]第二批!$C:$Z,24,0) -> 55
A13: 9 | B13: ns7837792242408290041529 | C13: =VLOOKUP(B13,[1]第二批!$B:$C,2,0) -> 广州光耀通讯设备有限公司 | D13: =VLOOKUP(B13,[1]第二批!$B:$D,3,0) -> 91440115741867912R | E13: 符合条件 | F13: =VLOOKUP(C13,[1]第二批!$C:$Z,24,0) -> 25
A14: 10 | B14: ns7837792242408290041429 | C14: =VLOOKUP(B14,[1]第二批!$B:$C,2,0) -> 广汽丰通钢业有限公司 | D14: =VLOOKUP(B14,[1]第二批!$B:$D,3,0) -> 91440115767698563X | E14: 符合条件 | F14: =VLOOKUP(C14,[1]第二批!$C:$Z,24,0) -> 200
A15: 11 | B15: ns7837792242408280041180 | C15: =VLOOKUP(B15,[1]第二批!$B:$C,2,0) -> 广州志盈塑料制品有限公司 | D15: =VLOOKUP(B15,[1]第二批!$B:$D,3,0) -> 91440101669955802G | E15: 符合条件 | F15: =VLOOKUP(C15,[1]第二批!$C:$Z,24,0) -> 32
A16: 12 | B16: ns7837792242408280041144 | C16: =VLOOKUP(B16,[1]第二批!$B:$C,2,0) -> 丰田纺织（广州）汽车部件有限公司 | D16: =VLOOKUP(B16,[1]第二批!$B:$D,3,0) -> 91440115766116453P | E16: 符合条件 | F16: =VLOOKUP(C16,[1]第二批!$C:$Z,24,0) -> 200
A17: 13 | B17: ns7837792242408280041048 | C17: =VLOOKUP(B17,[1]第二批!$B:$C,2,0) -> 广州樱泰汽车饰件有限公司 | D17: =VLOOKUP(B17,[1]第二批!$B:$D,3,0) -> 914401157661223869 | E17: 符合条件 | F17: =VLOOKUP(C17,[1]第二批!$C:$Z,24,0) -> 72
A18: 14 | B18: ns7837792242408280041045 | C18: =VLOOKUP(B18,[1]第二批!$B:$C,2,0) -> 广州市聚英电器实业有限公司 | D18: =VLOOKUP(B18,[1]第二批!$B:$D,3,0) -> 914401157534771027 | E18: 符合条件 | F18: =VLOOKUP(C18,[1]第二批!$C:$Z,24,0) -> 29
A19: 15 | B19: ns7837792242408270040907 | C19: =VLOOKUP(B19,[1]第二批!$B:$C,2,0) -> 广州纳诺新材料技术有限公司 | D19: =VLOOKUP(B19,[1]第二批!$B:$D,3,0) -> 91440101MA5D689E4C | E19: 符合条件 | F19: =VLOOKUP(C19,[1]第二批!$C:$Z,24,0) -> 21
A20: 16 | B20: ns7837792242408270040899 | C20: =VLOOKUP(B20,[1]第二批!$B:$C,2,0) -> 广船国际有限公司 | D20: =VLOOKUP(B20,[1]第二批!$B:$D,3,0) -> 914401017889253316 | E20: 符合条件 | F20: =VLOOKUP(C20,[1]第二批!$C:$Z,24,0) -> 23
A21: 17 | B21: ns7837792242408230040583 | C21: =VLOOKUP(B21,[1]第二批!$B:$C,2,0) -> 广州海缝汽车零部件有限公司 | D21: =VLOOKUP(B21,[1]第二批!$B:$D,3,0) -> 91440115661832314B | E21: 符合条件 | F21: =VLOOKUP(C21,[1]第二批!$C:$Z,24,0) -> 200
... A26: 22 | B26: ns7837792242408090039071 | C26: =VLOOKUP(B26,[1]第二批!$B:$C,2,0) -> 电装（广州南沙）有限公司 | D26: =VLOOKUP(B26,[1]第二批!$B:$D,3,0) -> 91440101761942502U | E26: 符合条件 | F26: =VLOOKUP(C26,[1]第二批!$C:$Z,24,0) -> 23
