Workbook

Sheet 企业类
A1: 附件
A2: 2025年度佛山市工程技术研究中心拟认定名单（企业类67项）
A3: 序号 | B3: 工程中心名称 | C3: 依托单位 | D3: 区属 | E3: 主任 | F3: 统一社会信用代码
A4: 1 | B4: 佛山市城乡建设大数据分析与应用工程技术研究中心 | C4: 佛山市城市规划设计研究院有限公司 | D4: 禅城区 | E4: 梁雄飞 | F4: =VLOOKUP(B4,[1]企业类!$B$2:$D$165,3,FALSE) -> 91440600MACBYUA501
A5: 2 | B5: 佛山市智能光电子器件工程技术研究中心 | C5: 佛山市国星光电股份有限公司 | D5: 禅城区 | E5: 谢志国 | F5: =VLOOKUP(B5,[1]企业类!$B$2:$D$165,3,FALSE) -> 914406001935264036
A6: 3 | B6: 佛山市新能源汽车检测工程技术研究中心 | C6: 广东汽车检测中心有限公司 | D6: 禅城区 | E6: 张宸维 | F6: =VLOOKUP(B6,[1]企业类!$B$2:$D$165,3,FALSE) -> 91440600678841532J
A7: 4 | B7: 佛山市新能源动力电池用纳米碳材料工程技术研究中心 | C7: 佛山市格瑞芬新能源有限公司 | D7: 禅城区 | E7: 葛志强 | F7: =VLOOKUP(B7,[1]企业类!$B$2:$D$165,3,FALSE) -> 91440604MA51701283
A8: 5 | B8: 佛山市新能源电池材料工程技术研究中心 | C8: 广东宏璟新能源科技有限公司 | D8: 禅城区 | E8: 陈名柱 | F8: =VLOOKUP(B8,[1]企业类!$B$2:$D$165,3,FALSE) -> 91440604MABNT4GY7D
A9: 6 | B9: 佛山市低碳污水处理工程技术研究中心 | C9: 广东新之源环境科技有限公司 | D9: 禅城区 | E9: 张晓爽 | F9: =VLOOKUP(B9,[1]企业类!$B$2:$D$165,3,FALSE) -> 91440604735009989L
A10: 7 | B10: 佛山市智能化LED驱动电源工程技术研究中心 | C10: 广东科谷智能科技有限公司 | D10: 南海区 | E10: 吴显慧 | F10: =VLOOKUP(B10,[1]企业类!$B$2:$D$165,3,FALSE) -> 91440605MA55H6BXXA
A11: 8 | B11: 佛山市轻纺产品质量检验检测工程技术研究中心 | C11: 中联品检（佛山）检验技术有限公司 | D11: 南海区 | E11: 张珍竹 | F11: =VLOOKUP(B11,[1]企业类!$B$2:$D$165,3,FALSE) -> 91440605MA58E2D165
A12: 9 | B12: 佛山市数字化工厂单层钢结构工程技术研究中心 | C12: 广东楹固建设工程有限公司 | D12: 南海区 | E12: 陈汝培 | F12: =VLOOKUP(B12,[1]企业类!$B$2:$D$165,3,FALSE) -> 91440600351946201G
A13: 10 | B13: 佛山市生长因子药物制剂开发工程技术研究中心工程技术研究中心 | C13: 朗肽生物制药股份有限公司 | D13: 南海区 | E13: 石俊芳 | F13: =VLOOKUP(B13,[1]企业类!$B$2:$D$165,3,FALSE) -> 91440605749173878H
A14: 11 | B14: 佛山市中药饮片质量溯源与炮制工程技术研究中心 | C14: 广东慧达康制药有限公司 | D14: 南海区 | E14: 蔡清梅 | F14: =VLOOKUP(B14,[1]企业类!$B$2:$D$165,3,FALSE) -> 9144030056706921XL
A15: 12 | B15: 佛山市半导体先进封装设备工程技术研究中心 | C15: 广东鸿浩半导体设备有限公司 | D15: 南海区 | E15: 李昱贤 | F15: =VLOOKUP(B15,[1]企业类!$B$2:$D$165,3,FALSE) -> 91440605MAA4K3QG29
... A70: 67 | B70: 佛山市耐候电缆工程技术研究中心 | C70: 广东金联宇电缆集团有限公司 | D70: 三水区 | E70: 王平 | F70: =VLOOKUP(B70,[1]企业类!$B$2:$D$165,3,FALSE) -> 91440607MA55CBH201
A71: 下空

Sheet 非企业类
A1: 2025年度佛山市工程技术研究中心拟认定名单（非企业类15项）
A2: 序号 | B2: 工程中心名称 | C2: 依托单位 | D2: 二级单位 （下设机构） | E2: 区属 | F2: 主任 | G2: 统一社会信用代码
A3: 1 | B3: 佛山市智能网联车工程技术研究中心 | C3: 佛山职业技术学院 | D3: 汽车工程学院 | E3: 禅城区 | F3: 化雪荟 | G3: =VLOOKUP(B3,[1]非企业类!$B$2:$E$32,4,FALSE) -> 12440600456075510P
A4: 2 | B4: 佛山市骨科机器人手术配合人才培育工程技术研究中心 | C4: 佛山市中医院 | D4: 手术中心 | E4: 禅城区 | F4: 陈务民 | G4: =VLOOKUP(B4,[1]非企业类!$B$2:$E$32,4,FALSE) -> 12440600456074139P
A5: 3 | B5: 佛山市骨科机器人临床应用工程技术研究中心 | C5: 佛山复星禅诚医院有限公司 | D5: 骨科 | E5: 禅城区 | F5: 赵晓东 | G5: 91440604075050512F
A6: 4 | B6: 佛山市精密仪器先进制造技术工程技术研究中心 | C6: 广东省科学院佛山产业技术研究院有限公司 | D6: / | E6: 禅城区 | F6: 殷红军 | G6: 91440600MA52EG833Y
A7: 5 | B7: 佛山市多模态视觉与人工智能协同工程技术研究中心 | C7: 广东轻工职业技术大学 | D7: 人工智能学院 | E7: 南海区 | F7: 张晋勇 | G7: =VLOOKUP(B7,[1]非企业类!$B$2:$E$32,4,FALSE) -> 12440000455863013X
A8: 6 | B8: 佛山市古树名木保护工程技术研究中心 | C8: 广东轻工职业技术大学 | D8: 生态环境技术学院 | E8: 南海区 | F8: 黄华枝 | G8: =VLOOKUP(B8,[1]非企业类!$B$2:$E$32,4,FALSE) -> 12440000455863013X
A9: 7 | B9: 佛山市数字孪生工程技术研究中心 | C9: 广东东软学院 | D9: 数字媒体与设计学院 | E9: 南海区 | F9: 辛伟彬 | G9: =VLOOKUP(B9,[1]非企业类!$B$2:$E$32,4,FALSE) -> 52440000749193000D
A10: 8 | B10: 佛山市生物多样性保护与生态恢复工程技术研究中心 | C10: 广东环境保护工程职业学院 | D10: 人居环境学院 | E10: 南海区 | F10: 钟真宜 | G10: =VLOOKUP(B10,[1]非企业类!$B$2:$E$32,4,FALSE) -> 12440000564569577P
A11: 9 | B11: 佛山市AI与遥感生态环境智慧监测工程技术研究中心 | C11: 广东环境保护工程职业学院 | D11: 环境监测学院 | E11: 南海区 | F11: 蔡宗平 | G11: =VLOOKUP(B11,[1]非企业类!$B$2:$E$32,4,FALSE) -> 12440000564569577P
A12: 10 | B12: 佛山市上市药品安全性再评价与临床合理用药工程技术研究中心 | C12: 佛山市南海区人民医院（华南理工大学附属第六医院、华南理工大学第六临床学院） | D12: 药学部 | E12: 南海区 | F12: 叶林虎 | G12: =VLOOKUP(B12,[1]非企业类!$B$2:$E$32,4,FALSE) -> 12440605708114783W
A13: 11 | B13: 佛山市临床专科护理人才培养与创新工程技术研究中心 | C13: 佛山市南海区人民医院（华南理工大学附属第六医院、华南理工大学第六临床学院） | D13: 护理部 | E13: 南海区 | F13: 区洁芬 | G13: =VLOOKUP(B13,[1]非企业类!$B$2:$E$32,4,FALSE) -> 12440605708114783W
A14: 12 | B14: 佛山市现代生物育种工程技术研究中心 | C14: 佛山鲲鹏现代农业研究院 | D14: / | E14: 南海区 | F14: 唐中林 | G14: =VLOOKUP(B14,[1]非企业类!$B$2:$E$32,4,FALSE) -> 12440600MB2D80149R
A15: 13 | B15: 佛山市强风暴工程技术研究中心 | C15: 佛山市龙卷风研究中心 | D15: / | E15: 顺德区 | F15: 李彩玲 | G15: =VLOOKUP(B15,[1]非企业类!$B$2:$E$32,4,FALSE) -> 124406007993861268
A16: 14 | B16: 佛山市肿瘤微环境靶标与转化工程技术研究中心 | C16: 南方医科大学第八附属医院（佛山市顺德区第一人民医院） | D16: 病理科 | E16: 顺德区 | F16: 赵亮 | G16: =VLOOKUP(B16,[1]非企业类!$B$2:$E$32,4,FALSE) -> 124406064560886379
A17: 15 | B17: 佛山市人工智能放疗-介入协同优化诊疗工程技术研究中心 | C17: 南方医科大学第八附属医院（佛山市顺德区第一人民医院） | D17: 肿瘤科 | E17: 顺德区 | F17: 郑大勇 | G17: =VLOOKUP(B17,[1]非企业类!$B$2:$E$32,4,FALSE) -> 124406064560886379
A18: 下 空
