Workbook

Sheet Sheet1
A1: 附件
A2: 2026年中山市中小企业数字化转型城市试点数字化项目（第二批）资助计划
A3: 序号 | B3: 企业名称 | C3: 项目名称 | D3: 评估等级 | E3: 试点类型 | F3: 合计奖补投入金额 （万元，不含税） | G3: 应补总金额 （万元） | H3: 已获得的预奖补金额 （万元） | J3: 监管账户已获得奖补金额（万元） | L3: 本次应奖补金额 （万元）
H4: 中央 | I4: 省级 | J4: 中央 | K4: 省级 | L4: 中央 | M4: 省级 | N4: 市级 | O4: 合计
A5: 合计 | F5: =SUM(F6:F18) -> 318.54581 | G5: =SUM(G6:G18) -> 158.43 | H5: =SUM(H6:H18) -> 0 | I5: =SUM(I6:I18) -> 24.84 | J5: =SUM(J6:J18) -> 0 | K5: =SUM(K6:K18) -> 34.5 | L5: =SUM(L6:L18) -> 0 | M5: =SUM(M6:M18) -> 35.718 | ... O5: =SUM(O6:O18) -> 99.09
A6: 1 | B6: 中山市锵辉金属制品有限公司 | C6: 中山市锵辉金属制品数字化改造项目 | D6: 二级 | E6: 省级 | F6: 9.245283 | G6: =SUM(H6:N6) -> 4.62 | H6: =VLOOKUP(B6,[1]项目奖补!$B$1:$U$65536,11,FALSE) -> 0 | I6: =VLOOKUP(B6,[1]项目奖补!$B$1:$T$65536,12,FALSE) -> 1.84 | J6: =VLOOKUP(B6,[1]项目奖补!$B$1:$U$65536,14,FALSE) -> 0 | K6: =VLOOKUP(B6,[1]项目奖补!$B$1:$U$65536,15,FALSE) -> 0 | L6: =VLOOKUP(B6,[1]项目奖补!$B$1:$U$65536,18,FALSE) -> 0 | M6: =VLOOKUP(B6,[1]项目奖补!$B$1:$U$65536,19,FALSE) -> 0.932 | N6: =VLOOKUP(B6,[1]项目奖补!$B$1:$U$65536,20,FALSE) -> 1.848 | O6: =SUM(L6:N6) -> 2.78
A7: 2 | B7: 中山英诺莱比智能科技有限公司 | C7: 英诺莱比数字化工厂项目 | D7: 三级 | E7: 省级 | F7: 91.150442 | G7: =SUM(H7:N7) -> 45.57 | H7: =VLOOKUP(B7,[1]项目奖补!$B$1:$U$65536,11,FALSE) -> 0 | I7: =VLOOKUP(B7,[1]项目奖补!$B$1:$T$65536,12,FALSE) -> 23 | J7: =VLOOKUP(B7,[1]项目奖补!$B$1:$U$65536,14,FALSE) -> 0 | K7: =VLOOKUP(B7,[1]项目奖补!$B$1:$U$65536,15,FALSE) -> 34.5 | L7: =VLOOKUP(B7,[1]项目奖补!$B$1:$U$65536,18,FALSE) -> 0 | M7: =VLOOKUP(B7,[1]项目奖补!$B$1:$U$65536,19,FALSE) -> -30.158 | N7: =VLOOKUP(B7,[1]项目奖补!$B$1:$U$65536,20,FALSE) -> 18.228 | O7: =SUM(L7:N7) -> -11.93
A8: 3 | B8: 中山市合硕高品电器有限公司 | C8: 合硕高品数字化升级转型项目 | D8: 二级 | E8: 省级 | F8: 61.629654 | G8: =SUM(H8:N8) -> 30 | H8: =VLOOKUP(B8,[1]项目奖补!$B$1:$U$65536,11,FALSE) -> 0 | I8: =VLOOKUP(B8,[1]项目奖补!$B$1:$T$65536,12,FALSE) -> 0 | J8: =VLOOKUP(B8,[1]项目奖补!$B$1:$U$65536,14,FALSE) -> 0 | K8: =VLOOKUP(B8,[1]项目奖补!$B$1:$U$65536,15,FALSE) -> 0 | L8: =VLOOKUP(B8,[1]项目奖补!$B$1:$U$65536,18,FALSE) -> 0 | M8: =VLOOKUP(B8,[1]项目奖补!$B$1:$U$65536,19,FALSE) -> 18 | N8: =VLOOKUP(B8,[1]项目奖补!$B$1:$U$65536,20,FALSE) -> 12 | O8: =SUM(L8:N8) -> 30
A9: 4 | B9: 广东中泰龙家具集团有限公司 | C9: 广东中泰龙家具集团有限公司数字化办公平台项目 | D9: 二级 | E9: 省级 | F9: 39.026549 | G9: =SUM(H9:N9) -> 19.51 | H9: =VLOOKUP(B9,[1]项目奖补!$B$1:$U$65536,11,FALSE) -> 0 | I9: =VLOOKUP(B9,[1]项目奖补!$B$1:$T$65536,12,FALSE) -> 0 | J9: =VLOOKUP(B9,[1]项目奖补!$B$1:$U$65536,14,FALSE) -> 0 | K9: =VLOOKUP(B9,[1]项目奖补!$B$1:$U$65536,15,FALSE) -> 0 | L9: =VLOOKUP(B9,[1]项目奖补!$B$1:$U$65536,18,FALSE) -> 0 | M9: =VLOOKUP(B9,[1]项目奖补!$B$1:$U$65536,19,FALSE) -> 11.706 | N9: =VLOOKUP(B9,[1]项目奖补!$B$1:$U$65536,20,FALSE) -> 7.804 | O9: =SUM(L9:N9) -> 19.51
A10: 5 | B10: 广东中泰家具集团有限公司 | C10: 飞书智慧办公数字化转型服务项目 | D10: 三级 | E10: 省级 | F10: 83.334594 | G10: =SUM(H10:N10) -> 41.66 | H10: =VLOOKUP(B10,[1]项目奖补!$B$1:$U$65536,11,FALSE) -> 0 | I10: =VLOOKUP(B10,[1]项目奖补!$B$1:$T$65536,12,FALSE) -> 0 | J10: =VLOOKUP(B10,[1]项目奖补!$B$1:$U$65536,14,FALSE) -> 0 | K10: =VLOOKUP(B10,[1]项目奖补!$B$1:$U$65536,15,FALSE) -> 0 | L10: =VLOOKUP(B10,[1]项目奖补!$B$1:$U$65536,18,FALSE) -> 0 | M10: =VLOOKUP(B10,[1]项目奖补!$B$1:$U$65536,19,FALSE) -> 24.996 | N10: =VLOOKUP(B10,[1]项目奖补!$B$1:$U$65536,20,FALSE) -> 16.664 | O10: =SUM(L10:N10) -> 41.66
A11: 6 | B11: 中山市绿明照明科技有限公司 | C11: 绿明数字化转型改造项目 | D11: 二级 | E11: 省级 | F11: 34.159292 | G11: =SUM(H11:N11) -> 17.07 | H11: =VLOOKUP(B11,[1]项目奖补!$B$1:$U$65536,11,FALSE) -> 0 | I11: =VLOOKUP(B11,[1]项目奖补!$B$1:$T$65536,12,FALSE) -> 0 | J11: =VLOOKUP(B11,[1]项目奖补!$B$1:$U$65536,14,FALSE) -> 0 | K11: =VLOOKUP(B11,[1]项目奖补!$B$1:$U$65536,15,FALSE) -> 0 | L11: =VLOOKUP(B11,[1]项目奖补!$B$1:$U$65536,18,FALSE) -> 0 | M11: =VLOOKUP(B11,[1]项目奖补!$B$1:$U$65536,19,FALSE) -> 10.242 | N11: =VLOOKUP(B11,[1]项目奖补!$B$1:$U$65536,20,FALSE) -> 6.828 | O11: =SUM(L11:N11) -> 17.07
